BEGIN:VCALENDAR
VERSION:2.0
PRODID:-//KockázatiTőke.com - ECPv6.15.20//NONSGML v1.0//EN
CALSCALE:GREGORIAN
METHOD:PUBLISH
X-WR-CALNAME:KockázatiTőke.com
X-ORIGINAL-URL:https://kockazatitoke.com
X-WR-CALDESC:Events for KockázatiTőke.com
REFRESH-INTERVAL;VALUE=DURATION:PT1H
X-Robots-Tag:noindex
X-PUBLISHED-TTL:PT1H
BEGIN:VTIMEZONE
TZID:Europe/Budapest
BEGIN:DAYLIGHT
TZOFFSETFROM:+0100
TZOFFSETTO:+0200
TZNAME:CEST
DTSTART:20240331T010000
END:DAYLIGHT
BEGIN:STANDARD
TZOFFSETFROM:+0200
TZOFFSETTO:+0100
TZNAME:CET
DTSTART:20241027T010000
END:STANDARD
BEGIN:DAYLIGHT
TZOFFSETFROM:+0100
TZOFFSETTO:+0200
TZNAME:CEST
DTSTART:20250330T010000
END:DAYLIGHT
BEGIN:STANDARD
TZOFFSETFROM:+0200
TZOFFSETTO:+0100
TZNAME:CET
DTSTART:20251026T010000
END:STANDARD
BEGIN:DAYLIGHT
TZOFFSETFROM:+0100
TZOFFSETTO:+0200
TZNAME:CEST
DTSTART:20260329T010000
END:DAYLIGHT
BEGIN:STANDARD
TZOFFSETFROM:+0200
TZOFFSETTO:+0100
TZNAME:CET
DTSTART:20261025T010000
END:STANDARD
END:VTIMEZONE
BEGIN:VEVENT
DTSTART;VALUE=DATE:20251203
DTEND;VALUE=DATE:20251205
DTSTAMP:20260421T164801
CREATED:20250106T055311Z
LAST-MODIFIED:20250106T055311Z
UID:7889-1764720000-1764892799@kockazatitoke.com
SUMMARY:Health Tech Forward
DESCRIPTION:A Health Tech Forward nem egy szokványos technológiai konferencia\, hanem kifejezetten az egészségügy és a wellness forradalmasítására fókuszál a technológiai innovációk segítségével. A rendezvény különlegessége\, hogy két napon át inspiráló és dinamikus panelbeszélgetéseket\, valamint értékes networking eseményeket kínál a résztvevők számára.
URL:https://kockazatitoke.com/rendezveny/health-tech-forward-2/
LOCATION:Barcelona
CATEGORIES:Startup
ATTACH;FMTTYPE=image/png:https://kockazatitoke.com/wp-content/uploads/2025/01/Dizainas-be-pavadinimo-10-1.png
END:VEVENT
BEGIN:VEVENT
DTSTART;VALUE=DATE:20251119
DTEND;VALUE=DATE:20251121
DTSTAMP:20260421T164801
CREATED:20250106T054906Z
LAST-MODIFIED:20250106T054906Z
UID:7885-1763510400-1763683199@kockazatitoke.com
SUMMARY:Slush
DESCRIPTION:A Slush egy nonprofit szervezet\, amely a világ egyik vezető startup eseményét rendezi meg. Az esemény célja\, hogy cselekvésre ösztönözze a résztvevőket\, megvalósítható vállalatépítési tanácsokkal lássa el őket\, miközben összehozza az ökoszisztéma legmeghatározóbb szereplőit.
URL:https://kockazatitoke.com/rendezveny/slush-2/
LOCATION:Helsinki
CATEGORIES:Startup
ATTACH;FMTTYPE=image/png:https://kockazatitoke.com/wp-content/uploads/2025/01/Event-covers-1-e1729270159624.png
END:VEVENT
BEGIN:VEVENT
DTSTART;VALUE=DATE:20251111
DTEND;VALUE=DATE:20251113
DTSTAMP:20260421T164801
CREATED:20250106T053446Z
LAST-MODIFIED:20250106T053446Z
UID:7873-1762819200-1762991999@kockazatitoke.com
SUMMARY:Frontiers Health
DESCRIPTION:A Frontier Health egy egészségügyi innovációs konferencia\, amely egyedülálló platformot teremt a digitális technológia és az egészségügy találkozásához. Az esemény széles körű résztvevőket vonz\, beleértve innovatív technológiai startupokat\, befektetési alapokat\, tudományos intézményeket\, biztosítótársaságokat és egészségügyi szakembereket. Ezek a szereplők közösen vitathatják meg az egészségügy legfontosabb kihívásait és jövőbeli lehetőségeit.
URL:https://kockazatitoke.com/rendezveny/frontiers-health-2/
LOCATION:Berlin
CATEGORIES:Startup
ATTACH;FMTTYPE=image/png:https://kockazatitoke.com/wp-content/uploads/2025/01/images-2-e1736141529257.png
END:VEVENT
BEGIN:VEVENT
DTSTART;VALUE=DATE:20251110
DTEND;VALUE=DATE:20251114
DTSTAMP:20260421T164801
CREATED:20250106T054513Z
LAST-MODIFIED:20250106T054513Z
UID:7881-1762732800-1763078399@kockazatitoke.com
SUMMARY:WebSummit
DESCRIPTION:Egy olyan időszakban\, amikor a bizonytalanság számos iparágat és az egész világot érinti\, a WebSummit összehozza a döntéshozókat\, államfőket\, valamint a technológiai vállalatok és gyorsan növekvő startupok alapítóit és vezetőit. A konferencia célja\, hogy közösen keressék a választ a legfontosabb kérdésre: Merre tovább?
URL:https://kockazatitoke.com/rendezveny/websummit-2/
LOCATION:Lisszabon
CATEGORIES:Startup
ATTACH;FMTTYPE=image/png:https://kockazatitoke.com/wp-content/uploads/2025/01/Web_Summit_logo.svg_.png
END:VEVENT
BEGIN:VEVENT
DTSTART;VALUE=DATE:20251106
DTEND;VALUE=DATE:20251108
DTSTAMP:20260421T164801
CREATED:20250106T065629Z
LAST-MODIFIED:20250106T065629Z
UID:7915-1762387200-1762559999@kockazatitoke.com
SUMMARY:Startup Nights
DESCRIPTION:A Startup Nights Svájc legnagyobb startup rendezvénye\, amely a teljes startup ökoszisztémát egy asztalhoz hozza. Az eseményen több mint 8 000 résztvevő\, több mint 120 startup és számos előadó osztja meg tudását és tapasztalatait. A rendezvény lehetőséget biztosít a networkingre\, az innovációk bemutatására és a befektetési lehetőségek felfedezésére.
URL:https://kockazatitoke.com/rendezveny/startup-nights/
LOCATION:Eulachhallen Winterthur
CATEGORIES:Startup
ATTACH;FMTTYPE=image/png:https://kockazatitoke.com/wp-content/uploads/2025/01/startup-nights.png
END:VEVENT
BEGIN:VEVENT
DTSTART;VALUE=DATE:20251104
DTEND;VALUE=DATE:20251107
DTSTAMP:20260421T164801
CREATED:20250311T165623Z
LAST-MODIFIED:20250311T165623Z
UID:9289-1762214400-1762473599@kockazatitoke.com
SUMMARY:Smart City Expo World Congress
DESCRIPTION:A Smart City Expo World Congress a világ vezető rendezvénye az okos városok és fenntartható városi megoldások területén. A barcelonai esemény kormányzati szereplőket\, technológiai vállalatokat és innovátorokat hoz össze\, hogy megvitassák a digitális transzformáció\, a fenntarthatóság és a városi mobilitás jövőjét. Célja\, hogy elősegítse az intelligens és élhetőbb városok kialakítását globális együttműködések révén.
URL:https://kockazatitoke.com/rendezveny/smart-city-expo-world-congress/
LOCATION:Barcelona
CATEGORIES:Startup
ATTACH;FMTTYPE=image/png:https://kockazatitoke.com/wp-content/uploads/2025/03/header_blog_SCEWC.png
END:VEVENT
BEGIN:VEVENT
DTSTART;VALUE=DATE:20251022
DTEND;VALUE=DATE:20251024
DTSTAMP:20260421T164801
CREATED:20250311T165852Z
LAST-MODIFIED:20250311T165852Z
UID:9294-1761091200-1761263999@kockazatitoke.com
SUMMARY:Valencia Digital Summit
DESCRIPTION:A Valencia Digital Summit egy vezető technológiai és innovációs konferencia\, amely startupokat\, befektetőket és iparági vezetőket hoz össze Valenciában. A rendezvény középpontjában a digitális transzformáció\, a mesterséges intelligencia\, a fenntarthatóság és a startup-ökoszisztéma fejlesztése áll. Célja\, hogy elősegítse a technológiai együttműködéseket és támogassa az innovatív vállalkozások növekedését.
URL:https://kockazatitoke.com/rendezveny/valencia-digital-summit/
LOCATION:Valencia
CATEGORIES:Startup
ATTACH;FMTTYPE=image/png:https://kockazatitoke.com/wp-content/uploads/2025/03/STARTUP-VALENCIA-min.png
END:VEVENT
BEGIN:VEVENT
DTSTART;VALUE=DATE:20251022
DTEND;VALUE=DATE:20251024
DTSTAMP:20260421T164801
CREATED:20250106T054048Z
LAST-MODIFIED:20250106T054048Z
UID:7876-1761091200-1761263999@kockazatitoke.com
SUMMARY:Engaged Investments
DESCRIPTION:Az Engaged Investment Conference Közép-Európa meghatározó platformja\, amely összehozza a startup befektetőket és a korai fázisú tech startup alapítókat. Az esemény célja\, hogy összefogja a CEE régió széttöredezett startup ökoszisztémáját\, elősegítve a határokon átívelő befektetéseket. Ezáltal hozzájárul a régió startup környezetének stabilizálásához és fellendítéséhez.
URL:https://kockazatitoke.com/rendezveny/engaged-investments-2/
LOCATION:Prága
CATEGORIES:Investor
ATTACH;FMTTYPE=image/jpeg:https://kockazatitoke.com/wp-content/uploads/2025/01/maxresdefault.jpg
END:VEVENT
BEGIN:VEVENT
DTSTART;VALUE=DATE:20251020
DTEND;VALUE=DATE:20251025
DTSTAMP:20260421T164801
CREATED:20250103T154404Z
LAST-MODIFIED:20250103T154404Z
UID:7842-1760918400-1761350399@kockazatitoke.com
SUMMARY:Oslo Innovation Week
DESCRIPTION:Az Oslo Innovation Week célja\, hogy hidat teremtsen a norvég és nemzetközi inkubátorok\, befektetők\, valamint a norvég startup ökoszisztéma között. Az eseményen olyan startupok mutatkoznak be\, amelyek fenntartható és innovatív megoldásokkal szolgálnak ügyfeleik számára. A hét során a résztvevők megismerhetik Norvégia úttörőit\, akik forradalmi ötleteikkel formálják a jövőt.
URL:https://kockazatitoke.com/rendezveny/oslo-innovation-week-2/
LOCATION:Oslo
CATEGORIES:Startup
ATTACH;FMTTYPE=image/jpeg:https://kockazatitoke.com/wp-content/uploads/2025/01/398b0de6cad14bdb5c3d9b5911176a57fcc110fa-1080x1080-1.jpeg
END:VEVENT
BEGIN:VEVENT
DTSTART;VALUE=DATE:20251013
DTEND;VALUE=DATE:20251016
DTSTAMP:20260421T164801
CREATED:20250106T052905Z
LAST-MODIFIED:20250106T052905Z
UID:7868-1760313600-1760572799@kockazatitoke.com
SUMMARY:Saastock
DESCRIPTION:A SaaStock Europe egy vezető B2B SaaS konferencia\, amely évente kerül megrendezésre. Az esemény több ezer alapítót\, befektetőt és szakembert vonz\, különleges programokkal\, mint a Startup Day\, az Investock és a SaaS.City\, amelyek támogatják a résztvevők növekedését és kapcsolatépítését. A konferencia célja\, hogy összekapcsolja a szoftveripar vásárlóit és eladóit\, elősegítve az üzleti lehetőségek és a hosszú távú együttműködések kialakítását.
URL:https://kockazatitoke.com/rendezveny/saastock-2/
LOCATION:Dublin
CATEGORIES:Startup
ATTACH;FMTTYPE=image/png:https://kockazatitoke.com/wp-content/uploads/2025/01/unnamed-1-e1736090420843.png
END:VEVENT
BEGIN:VEVENT
DTSTART;VALUE=DATE:20251009
DTEND;VALUE=DATE:20251010
DTSTAMP:20260421T164801
CREATED:20250105T145915Z
LAST-MODIFIED:20250105T145915Z
UID:7864-1759968000-1760054399@kockazatitoke.com
SUMMARY:ARRtist Summit
DESCRIPTION:Az ARRtist Summit egy exkluzív\, meghívásos alapon működő éves konferencia\, amely B2B SaaS alapítókat\, felsővezetőket és befektetőket hoz össze Európában. A rendezvény célja\, hogy a résztvevők megismerjék a bevált növekedési stratégiákat\, kapcsolatba lépjenek vezető kockázati tőkealapokkal és más befektetőkkel\, valamint értékes hálózatot építsenek ki a legjobb SaaS szakemberekkel.
URL:https://kockazatitoke.com/rendezveny/arrtist-summit-2/
LOCATION:Berlin
CATEGORIES:Startup
ATTACH;FMTTYPE=image/webp:https://kockazatitoke.com/wp-content/uploads/2025/01/f8ba756b984e3b686237b482531a2c533a612ea738711a21cf0d8774e0223913-rimg-w1200-h600-dc020503-gmir.webp
END:VEVENT
BEGIN:VEVENT
DTSTART;VALUE=DATE:20251008
DTEND;VALUE=DATE:20251010
DTSTAMP:20260421T164801
CREATED:20250105T145149Z
LAST-MODIFIED:20250105T150410Z
UID:7859-1759881600-1760054399@kockazatitoke.com
SUMMARY:Sifted Summit
DESCRIPTION:A Sifted Summit egy vezető európai technológiai konferencia\, amelyet évente Londonban rendeznek meg\, több mint 3000 alapítót\, startup-vezetőt és befektetőt összehozva. A program részeként panelbeszélgetések\, workshopok és kerekasztal-beszélgetések várják az iparág kiemelkedő szereplőit és innovátorait.
URL:https://kockazatitoke.com/rendezveny/sifted-summit-2/
LOCATION:London
CATEGORIES:Startup
ATTACH;FMTTYPE=image/png:https://kockazatitoke.com/wp-content/uploads/2025/01/unnamed-e1736089430274.png
END:VEVENT
BEGIN:VEVENT
DTSTART;VALUE=DATE:20251001
DTEND;VALUE=DATE:20251004
DTSTAMP:20260421T164801
CREATED:20250313T111230Z
LAST-MODIFIED:20250313T111230Z
UID:9369-1759276800-1759535999@kockazatitoke.com
SUMMARY:Italian Tech Week
DESCRIPTION:Az Italian Tech Week Olaszország legnagyobb technológiai és innovációs konferenciája\, amely Torinóban kerül megrendezésre. Az esemény startupokat\, befektetőket és iparági vezetőket hoz össze\, hogy megvitassák a legújabb technológiai trendeket és üzleti lehetőségeket. A programban inspiráló előadások\, panelbeszélgetések és networking lehetőségek várják a résztvevőket.
URL:https://kockazatitoke.com/rendezveny/italian-tech-week/
LOCATION:Torino
CATEGORIES:KKV
ATTACH;FMTTYPE=image/avif:https://kockazatitoke.com/wp-content/uploads/2025/03/1712330581-share_img_1200x628.avif
END:VEVENT
BEGIN:VEVENT
DTSTART;VALUE=DATE:20251001
DTEND;VALUE=DATE:20251003
DTSTAMP:20260421T164801
CREATED:20250105T142729Z
LAST-MODIFIED:20250105T142729Z
UID:7854-1759276800-1759449599@kockazatitoke.com
SUMMARY:How To Web Conference
DESCRIPTION:A How to Web egy vezető európai konferencia\, amely a vállalkozásokra és az innovációra fókuszál. Ez az esemény találkozási platformként szolgál vállalkozók\, befektetők és technológiai vezetők számára\, lehetőséget nyújtva a legújabb\, iparágformáló innovációk megismerésére.
URL:https://kockazatitoke.com/rendezveny/how-to-web-conference/
LOCATION:Bucharest
CATEGORIES:Startup
ATTACH;FMTTYPE=image/jpeg:https://kockazatitoke.com/wp-content/uploads/2025/01/How-to-web-conference-2025-updated-event.jpg
END:VEVENT
BEGIN:VEVENT
DTSTART;VALUE=DATE:20250929
DTEND;VALUE=DATE:20251002
DTSTAMP:20260421T164801
CREATED:20250103T160151Z
LAST-MODIFIED:20250103T160507Z
UID:7846-1759104000-1759363199@kockazatitoke.com
SUMMARY:Bits & Pretzels
DESCRIPTION:A Bits & Pretzels Founders Festival Európa egyik vezető startup konferenciája\, amely 2025. szeptember 29. és október 1. között kerül megrendezésre Münchenben. Az eseményen 7500 alapító\, befektető és iparági vezető gyűlik össze három napos tanulásra\, kapcsolatépítésre és üzletkötésre. A fesztivál különlegessége\, hogy a harmadik napon a résztvevők közösen látogatják meg az igazi müncheni Oktoberfestet\, ahol 250 szakértő vezetésével folytathatnak hálózatépítést.
URL:https://kockazatitoke.com/rendezveny/bits-pretzels/
LOCATION:München
CATEGORIES:Startup
ATTACH;FMTTYPE=image/png:https://kockazatitoke.com/wp-content/uploads/2025/01/469326490_1125612179138210_954538754016212833_n-e1735919715572.png
END:VEVENT
BEGIN:VEVENT
DTSTART;VALUE=DATE:20250917
DTEND;VALUE=DATE:20250919
DTSTAMP:20260421T164801
CREATED:20250103T153708Z
LAST-MODIFIED:20250103T153708Z
UID:7838-1758067200-1758239999@kockazatitoke.com
SUMMARY:DMEXCO
DESCRIPTION:A DMEXCO Európa meghatározó digitális marketing- és technológiai eseménye\, ahol az iparág vezetői\, marketing- és médiaszakemberek\, valamint technológiai innovátorok találkoznak\, hogy formálják a digitális jövőt. Globális perspektívát és helyi fókuszt ötvözve az esemény szemináriumokkal\, panelbeszélgetésekkel\, kiállításokkal és mesterkurzusokkal segíti a digitális gazdaság fejlődését és piaci értékteremtését. A DMEXCO közössége inspirációt és tudást kínál a digitális ökoszisztéma minden szereplője számára.
URL:https://kockazatitoke.com/rendezveny/dmexco-2/
LOCATION:Köln
CATEGORIES:Startup
ATTACH;FMTTYPE=image/jpeg:https://kockazatitoke.com/wp-content/uploads/2025/01/LP-DMEXCO-20252.jpg
END:VEVENT
BEGIN:VEVENT
DTSTART;VALUE=DATE:20250914
DTEND;VALUE=DATE:20250917
DTSTAMP:20260421T164801
CREATED:20250313T114932Z
LAST-MODIFIED:20250313T114932Z
UID:9400-1757808000-1758067199@kockazatitoke.com
SUMMARY:Shift Conference
DESCRIPTION:A Shift Conference Európa egyik vezető fejlesztői konferenciája\, amely Horvátországban kerül megrendezésre. Az esemény a szoftverfejlesztés\, az innováció és a technológiai trendek legújabb vívmányaira fókuszál. A résztvevők szakértői előadásokat\, workshopokat és networking lehetőségeket élvezhetnek a tech közösség legjobbjaival.
URL:https://kockazatitoke.com/rendezveny/shift-conference/
LOCATION:Zadar
CATEGORIES:Startup
ATTACH;FMTTYPE=image/jpeg:https://kockazatitoke.com/wp-content/uploads/2025/03/Infobip-Shift.jpg
END:VEVENT
BEGIN:VEVENT
DTSTART;VALUE=DATE:20250910
DTEND;VALUE=DATE:20250911
DTSTAMP:20260421T164801
CREATED:20250513T100506Z
LAST-MODIFIED:20250513T100506Z
UID:10302-1757462400-1757548799@kockazatitoke.com
SUMMARY:The ScaleupFest
DESCRIPTION:A ScaleupFest Budapest 2025 a közép- és kelet-európai régió egyik vezető növekedésorientált eseménye\, amely a scaleup alapítókat\, befektetőket\, vállalatokat és ökoszisztéma-szereplőket hozza össze. A rendezvény célja\, hogy valós kihívásokat és alkalmazható megoldásokat tárgyaljon\, elkerülve a felszínes előadásokat\, és a helyi relevanciára összpontosítson
URL:https://kockazatitoke.com/rendezveny/the-scaleupfest/
LOCATION:Budapest
CATEGORIES:Startup
ATTACH;FMTTYPE=image/jpeg:https://kockazatitoke.com/wp-content/uploads/2025/05/Untitled-design.jpg
END:VEVENT
BEGIN:VEVENT
DTSTART;VALUE=DATE:20250827
DTEND;VALUE=DATE:20250829
DTSTAMP:20260421T164801
CREATED:20250103T141134Z
LAST-MODIFIED:20250103T141134Z
UID:7834-1756252800-1756425599@kockazatitoke.com
SUMMARY:TechBBQ
DESCRIPTION:A TechBBQ Észak-Európa vezető startup és innovációs konferenciája\, amely Koppenhágában várja a technológia iránt érdeklődő vállalkozókat\, befektetőket és iparági szakértőket. Az esemény célja\, hogy támogassa a startup ökoszisztéma fejlődését\, és elősegítse a kapcsolatépítést\, az inspirációt és a tudásmegosztást. A konferencia izgalmas előadásokkal\, workshopokkal és hálózati lehetőségekkel kínál lehetőséget a résztvevőknek\, hogy új ötleteket fedezzenek fel és együttműködéseket alakítsanak ki.
URL:https://kockazatitoke.com/rendezveny/techbbq-2/
LOCATION:Koppenhága
CATEGORIES:Startup
ATTACH;FMTTYPE=image/png:https://kockazatitoke.com/wp-content/uploads/2025/01/images-e1735912198205.png
END:VEVENT
BEGIN:VEVENT
DTSTART;VALUE=DATE:20250706
DTEND;VALUE=DATE:20250711
DTSTAMP:20260421T164801
CREATED:20240825T165450Z
LAST-MODIFIED:20240825T165450Z
UID:6732-1751760000-1752191999@kockazatitoke.com
SUMMARY:Digitalk Conference
DESCRIPTION:A jelentős innovációk és az áttörést jelentő technológiai fejlesztések exponenciális elterjedése mélyen átalakítja életünket és üzleti tevékenységünket minden szinten.  Egy tektonikus eltolódásnak vagyunk tanúi\, amely mindent és örökre megváltoztat. A Digitalk technológiai konferencia végigvezeti részvevőit azokon a legújabb technológiákon és piaci szereplőkön\, amelyek alakítják holnapunkat.  \n 
URL:https://kockazatitoke.com/rendezveny/digitalk-conference-2/
LOCATION:Szófia
CATEGORIES:Startup
ATTACH;FMTTYPE=image/png:https://kockazatitoke.com/wp-content/uploads/2024/08/digitalk.png
END:VEVENT
BEGIN:VEVENT
DTSTART;VALUE=DATE:20250619
DTEND;VALUE=DATE:20250621
DTSTAMP:20260421T164801
CREATED:20250313T112955Z
LAST-MODIFIED:20250313T112955Z
UID:9384-1750291200-1750463999@kockazatitoke.com
SUMMARY:TNW Conference
DESCRIPTION:A TNW Conference Európa egyik vezető technológiai fesztiválja\, amely évente Amszterdamban gyűjti össze a startupokat\, befektetőket és iparági vezetőket. Az esemény középpontjában az innováció\, a jövő technológiái és az üzleti növekedés áll. A résztvevők inspiráló előadásokat\, panelbeszélgetéseket és kiváló networking lehetőségeket élvezhetnek.
URL:https://kockazatitoke.com/rendezveny/tnw-conference/
LOCATION:Amszterdam
CATEGORIES:Startup
ATTACH;FMTTYPE=image/jpeg:https://kockazatitoke.com/wp-content/uploads/2025/03/images-4.jpeg
END:VEVENT
BEGIN:VEVENT
DTSTART;TZID=Europe/Budapest:20250612T180000
DTEND;TZID=Europe/Budapest:20250612T220000
DTSTAMP:20260421T164801
CREATED:20250529T131738Z
LAST-MODIFIED:20250529T131738Z
UID:10595-1749751200-1749765600@kockazatitoke.com
SUMMARY:Equity Thursday
DESCRIPTION:A következő Equity Thursday esemény középpontjában az EU új AI Act-jének hatásai\, a mesterséges intelligencia üzleti és tudományos jövője\, valamint az AI-befektetési környezet állnak. A panelbeszélgetés szakértői többek között arról vitáznak\, mennyire éri meg az AI a hype-ot\, és hogyan lehet szabályozott\, mégis versenyképes módon alkalmazni.
URL:https://kockazatitoke.com/rendezveny/equity-thursday-3/
LOCATION:Budapest
CATEGORIES:Startup
ATTACH;FMTTYPE=image/png:https://kockazatitoke.com/wp-content/uploads/2025/05/EQT_06.12_CMS-–-Banner.png
END:VEVENT
BEGIN:VEVENT
DTSTART;VALUE=DATE:20250612
DTEND;VALUE=DATE:20250613
DTSTAMP:20260421T164801
CREATED:20240825T165043Z
LAST-MODIFIED:20240825T165116Z
UID:6729-1749686400-1749772799@kockazatitoke.com
SUMMARY:Business Fest
DESCRIPTION:Magyarország legnagyobb üzleti fesztiválja\, amely évről évre megújuló és változatos programokkal várja résztvevőit.
URL:https://kockazatitoke.com/rendezveny/business-fest-2/
LOCATION:Budapest
CATEGORIES:Startup
ATTACH;FMTTYPE=image/png:https://kockazatitoke.com/wp-content/uploads/2024/08/bussiness-fest.png
END:VEVENT
BEGIN:VEVENT
DTSTART;VALUE=DATE:20250611
DTEND;VALUE=DATE:20250615
DTSTAMP:20260421T164801
CREATED:20250311T143256Z
LAST-MODIFIED:20250311T143256Z
UID:9273-1749600000-1749945599@kockazatitoke.com
SUMMARY:Viva Technology
DESCRIPTION:A Viva Technology Európa egyik legjelentősebb technológiai és innovációs eseménye\, amely Párizsban kerül megrendezésre. A konferencia startupokat\, nagyvállalatokat és befektetőket kapcsol össze\, kiemelt témái között az AI\, a fenntartható technológia és a digitális átalakulás szerepelnek. A rendezvény célja\, hogy elősegítse az úttörő technológiai megoldások bemutatását és a nemzetközi együttműködéseket.
URL:https://kockazatitoke.com/rendezveny/viva-technology/
LOCATION:Párizs
CATEGORIES:Startup
ATTACH;FMTTYPE=image/png:https://kockazatitoke.com/wp-content/uploads/2025/03/fr-vig-vivatech-2022-1500.png
END:VEVENT
BEGIN:VEVENT
DTSTART;VALUE=DATE:20250609
DTEND;VALUE=DATE:20250614
DTSTAMP:20260421T164801
CREATED:20250311T132023Z
LAST-MODIFIED:20250311T132023Z
UID:9261-1749427200-1749859199@kockazatitoke.com
SUMMARY:London Tech Week
DESCRIPTION:A London Tech Week az Egyesült Királyság egyik legnagyobb technológiai eseménye\, amely innovációs vezetőket\, startupokat és befektetőket hoz össze. A rendezvény középpontjában a legújabb technológiai trendek\, például az AI\, a fintech és a fenntartható tech megoldások állnak. A konferencia célja\, hogy elősegítse a nemzetközi együttműködést és támogassa a technológiai vállalkozásokat a növekedésben.
URL:https://kockazatitoke.com/rendezveny/london-tech-week/
LOCATION:London
CATEGORIES:Startup
ATTACH;FMTTYPE=image/jpeg:https://kockazatitoke.com/wp-content/uploads/2025/03/maxresdefault-1.jpg
END:VEVENT
BEGIN:VEVENT
DTSTART;VALUE=DATE:20250604
DTEND;VALUE=DATE:20250607
DTSTAMP:20260421T164801
CREATED:20250311T165354Z
LAST-MODIFIED:20250311T165354Z
UID:9277-1748995200-1749254399@kockazatitoke.com
SUMMARY:South Summit
DESCRIPTION:A South Summit Madrid egyik vezető innovációs és startup eseménye\, amely vállalkozókat\, befektetőket és iparági vezetőket hoz össze. A konferencia középpontjában a fenntarthatóság\, az AI\, a fintech és az egészségügyi technológia áll. Célja\, hogy elősegítse a globális üzleti együttműködéseket és támogassa a feltörekvő startupokat a növekedésben.
URL:https://kockazatitoke.com/rendezveny/south-summit/
LOCATION:Madrid
CATEGORIES:Startup
ATTACH;FMTTYPE=image/jpeg:https://kockazatitoke.com/wp-content/uploads/2025/03/south_summit_madrid_2.jpg
END:VEVENT
BEGIN:VEVENT
DTSTART;TZID=Europe/Budapest:20250602T180000
DTEND;TZID=Europe/Budapest:20250602T213000
DTSTAMP:20260421T164801
CREATED:20250529T130407Z
LAST-MODIFIED:20250529T130407Z
UID:10590-1748887200-1748899800@kockazatitoke.com
SUMMARY:First Monday with Riptides (Kaya VC & PortfoLion)
DESCRIPTION:Június 2-án a First Monday vendége a Riptides két alapítója\, Sereg Márton és Varga Zsolt\, akik nemrég 3\,3 millió eurót vontak be gépi identitáskezelő platformjukra. A beszélgetéshez csatlakoznak befektetőik\, Karel Zheng (KAYA VC) és Kiss-Király Dániel (PortfoLion Capital Partners) is\, hogy megosszák\, hogyan lehet egy technológiailag komplex\, korai piacon látványosat lépni.
URL:https://kockazatitoke.com/rendezveny/first-monday-with-riptides-kaya-vc-portfolion/
LOCATION:Budapest
CATEGORIES:Startup
ATTACH;FMTTYPE=image/png:https://kockazatitoke.com/wp-content/uploads/2025/05/cbd01916-2a23-4824-b985-02dd5d89fba5.png
END:VEVENT
BEGIN:VEVENT
DTSTART;VALUE=DATE:20250528
DTEND;VALUE=DATE:20250530
DTSTAMP:20260421T164801
CREATED:20250311T142407Z
LAST-MODIFIED:20250311T142407Z
UID:9269-1748390400-1748563199@kockazatitoke.com
SUMMARY:Dublin Tech Summit
DESCRIPTION:A Dublin Tech Summit Európa egyik leggyorsabban növekvő technológiai konferenciája\, amely globális innovátorokat\, startupokat és iparági vezetőket hoz össze. A rendezvény fő témái között szerepel az AI\, a fintech\, a kiberbiztonság és a digitális transzformáció. Célja\, hogy elősegítse a technológiai együttműködéseket és támogassa az ír és nemzetközi tech ökoszisztéma fejlődését.
URL:https://kockazatitoke.com/rendezveny/dublin-tech-summit/
LOCATION:Dublin
CATEGORIES:Startup
ATTACH;FMTTYPE=image/png:https://kockazatitoke.com/wp-content/uploads/2025/03/DTS_WhiteLogo-1210x423-1.png
END:VEVENT
BEGIN:VEVENT
DTSTART;VALUE=DATE:20250527
DTEND;VALUE=DATE:20250529
DTSTAMP:20260421T164801
CREATED:20250103T130918Z
LAST-MODIFIED:20250103T130918Z
UID:7815-1748304000-1748476799@kockazatitoke.com
SUMMARY:Infoshare Conference
DESCRIPTION:Szoftverfejlesztők\, üzleti vezetők\, startuperek és technológiai rajongók találkoznak Gdanskban az Infoshare konferencián\, Közép- és Kelet-Európa legnagyobb tech és startup eseményén. Az évente több ezer résztvevőt vonzó rendezvény a tanulás\, inspiráció és kapcsolatépítés központja.
URL:https://kockazatitoke.com/rendezveny/infoshare-conference-2/
LOCATION:Gdansk
CATEGORIES:Startup
ATTACH;FMTTYPE=image/jpeg:https://kockazatitoke.com/wp-content/uploads/2025/01/infoshare_pl_logo.jpeg
END:VEVENT
BEGIN:VEVENT
DTSTART;VALUE=DATE:20250521
DTEND;VALUE=DATE:20250524
DTSTAMP:20260421T164801
CREATED:20250313T113924Z
LAST-MODIFIED:20250313T113924Z
UID:9394-1747785600-1748044799@kockazatitoke.com
SUMMARY:Latitude59
DESCRIPTION:A Latitude59 Észtország vezető startup és technológiai konferenciája\, amely a régió legígéretesebb startupjait\, befektetőit és iparági szakértőit hozza össze. Az esemény középpontjában az innováció\, a fenntarthatóság és a digitális fejlődés áll. A résztvevők inspiráló előadásokat\, panelbeszélgetéseket és kiváló networking lehetőségeket élvezhetnek.
URL:https://kockazatitoke.com/rendezveny/latitude59/
LOCATION:Tallinn
CATEGORIES:Startup
ATTACH;FMTTYPE=image/webp:https://kockazatitoke.com/wp-content/uploads/2025/03/Latitude-59-Tallinn-2025.webp
END:VEVENT
END:VCALENDAR